BEGIN:VCALENDAR
VERSION:2.0
PRODID:-//Objectif Image Lyon - ECPv6.15.20//NONSGML v1.0//EN
CALSCALE:GREGORIAN
METHOD:PUBLISH
X-WR-CALNAME:Objectif Image Lyon
X-ORIGINAL-URL:https://objectif-image-lyon.fr
X-WR-CALDESC:Évènements pour Objectif Image Lyon
REFRESH-INTERVAL;VALUE=DURATION:PT1H
X-Robots-Tag:noindex
X-PUBLISHED-TTL:PT1H
BEGIN:VTIMEZONE
TZID:Europe/Paris
BEGIN:DAYLIGHT
TZOFFSETFROM:+0100
TZOFFSETTO:+0200
TZNAME:CEST
DTSTART:20200329T010000
END:DAYLIGHT
BEGIN:STANDARD
TZOFFSETFROM:+0200
TZOFFSETTO:+0100
TZNAME:CET
DTSTART:20201025T010000
END:STANDARD
BEGIN:DAYLIGHT
TZOFFSETFROM:+0100
TZOFFSETTO:+0200
TZNAME:CEST
DTSTART:20210328T010000
END:DAYLIGHT
BEGIN:STANDARD
TZOFFSETFROM:+0200
TZOFFSETTO:+0100
TZNAME:CET
DTSTART:20211031T010000
END:STANDARD
BEGIN:DAYLIGHT
TZOFFSETFROM:+0100
TZOFFSETTO:+0200
TZNAME:CEST
DTSTART:20220327T010000
END:DAYLIGHT
BEGIN:STANDARD
TZOFFSETFROM:+0200
TZOFFSETTO:+0100
TZNAME:CET
DTSTART:20221030T010000
END:STANDARD
END:VTIMEZONE
BEGIN:VEVENT
DTSTART;TZID=Europe/Paris:20210503T200000
DTEND;TZID=Europe/Paris:20210503T220000
DTSTAMP:20260426T035516
CREATED:20210427T183736Z
LAST-MODIFIED:20210427T183736Z
UID:3892-1620072000-1620079200@objectif-image-lyon.fr
SUMMARY:Analyse d'image
DESCRIPTION:
URL:https://objectif-image-lyon.fr/event/analyse-dimage-2/
END:VEVENT
BEGIN:VEVENT
DTSTART;TZID=Europe/Paris:20210510T200000
DTEND;TZID=Europe/Paris:20210510T220000
DTSTAMP:20260426T035516
CREATED:20210503T164249Z
LAST-MODIFIED:20210503T164249Z
UID:3902-1620676800-1620684000@objectif-image-lyon.fr
SUMMARY:Analyse d'image
DESCRIPTION:
URL:https://objectif-image-lyon.fr/event/analyse-dimage-3/
END:VEVENT
BEGIN:VEVENT
DTSTART;TZID=Europe/Paris:20210517T200000
DTEND;TZID=Europe/Paris:20210517T220000
DTSTAMP:20260426T035516
CREATED:20210503T164401Z
LAST-MODIFIED:20210503T164401Z
UID:3904-1621281600-1621288800@objectif-image-lyon.fr
SUMMARY:Soirée à thème : Superposition
DESCRIPTION:
URL:https://objectif-image-lyon.fr/event/soiree-a-theme-superposition/
END:VEVENT
BEGIN:VEVENT
DTSTART;TZID=Europe/Paris:20210520T200000
DTEND;TZID=Europe/Paris:20210520T220000
DTSTAMP:20260426T035516
CREATED:20210430T084558Z
LAST-MODIFIED:20210430T084558Z
UID:3898-1621540800-1621548000@objectif-image-lyon.fr
SUMMARY:Spéciale Question de temps
DESCRIPTION:Soirée spéciale question de temps partagée avec Objectif Image Montpellier \n 
URL:https://objectif-image-lyon.fr/event/speciale-question-de-temps/
END:VEVENT
BEGIN:VEVENT
DTSTART;TZID=Europe/Paris:20210525T200000
DTEND;TZID=Europe/Paris:20210525T220000
DTSTAMP:20260426T035516
CREATED:20210517T202610Z
LAST-MODIFIED:20210519T121817Z
UID:3931-1621972800-1621980000@objectif-image-lyon.fr
SUMMARY:Analyse d'images
DESCRIPTION:lundi férié : soirée analyse d’images reportée le mardi
URL:https://objectif-image-lyon.fr/event/analyse-dimages-4/
END:VEVENT
BEGIN:VEVENT
DTSTART;TZID=Europe/Paris:20210531T200000
DTEND;TZID=Europe/Paris:20210531T220000
DTSTAMP:20260426T035516
CREATED:20210526T114755Z
LAST-MODIFIED:20210526T114755Z
UID:3945-1622491200-1622498400@objectif-image-lyon.fr
SUMMARY:Analyse d'image
DESCRIPTION:
URL:https://objectif-image-lyon.fr/event/analyse-dimage-4/
END:VEVENT
END:VCALENDAR