BEGIN:VCALENDAR
VERSION:2.0
PRODID:-//Objectif Image Lyon - ECPv6.15.20//NONSGML v1.0//EN
CALSCALE:GREGORIAN
METHOD:PUBLISH
X-WR-CALNAME:Objectif Image Lyon
X-ORIGINAL-URL:https://objectif-image-lyon.fr
X-WR-CALDESC:Évènements pour Objectif Image Lyon
REFRESH-INTERVAL;VALUE=DURATION:PT1H
X-Robots-Tag:noindex
X-PUBLISHED-TTL:PT1H
BEGIN:VTIMEZONE
TZID:Europe/Paris
BEGIN:DAYLIGHT
TZOFFSETFROM:+0100
TZOFFSETTO:+0200
TZNAME:CEST
DTSTART:20200329T010000
END:DAYLIGHT
BEGIN:STANDARD
TZOFFSETFROM:+0200
TZOFFSETTO:+0100
TZNAME:CET
DTSTART:20201025T010000
END:STANDARD
BEGIN:DAYLIGHT
TZOFFSETFROM:+0100
TZOFFSETTO:+0200
TZNAME:CEST
DTSTART:20210328T010000
END:DAYLIGHT
BEGIN:STANDARD
TZOFFSETFROM:+0200
TZOFFSETTO:+0100
TZNAME:CET
DTSTART:20211031T010000
END:STANDARD
BEGIN:DAYLIGHT
TZOFFSETFROM:+0100
TZOFFSETTO:+0200
TZNAME:CEST
DTSTART:20220327T010000
END:DAYLIGHT
BEGIN:STANDARD
TZOFFSETFROM:+0200
TZOFFSETTO:+0100
TZNAME:CET
DTSTART:20221030T010000
END:STANDARD
END:VTIMEZONE
BEGIN:VEVENT
DTSTART;TZID=Europe/Paris:20210201T200000
DTEND;TZID=Europe/Paris:20210201T223000
DTSTAMP:20260425T231511
CREATED:20210123T101837Z
LAST-MODIFIED:20210123T101837Z
UID:2987-1612209600-1612218600@objectif-image-lyon.fr
SUMMARY:Analyse / lecture d'image
DESCRIPTION:Lecture : analyse d’image \n5 images maximum à téléverser sur la page dédiée \nPensez à renommer vos photos : prenom-nom-titre
URL:https://objectif-image-lyon.fr/event/analyse-lecture-dimage/
END:VEVENT
BEGIN:VEVENT
DTSTART;TZID=Europe/Paris:20210208T200000
DTEND;TZID=Europe/Paris:20210208T223000
DTSTAMP:20260425T231511
CREATED:20210124T153506Z
LAST-MODIFIED:20210124T153506Z
UID:3010-1612814400-1612823400@objectif-image-lyon.fr
SUMMARY:Concevoir son livre de photographie
DESCRIPTION:Soirée animée par Christian qui nous fait la restitution d’un stage de Gildas Lepetit Castel
URL:https://objectif-image-lyon.fr/event/concevoir-son-livre-de-photographie/
END:VEVENT
BEGIN:VEVENT
DTSTART;TZID=Europe/Paris:20210215T200000
DTEND;TZID=Europe/Paris:20210215T223000
DTSTAMP:20260425T231511
CREATED:20210123T101935Z
LAST-MODIFIED:20210123T101935Z
UID:2989-1613419200-1613428200@objectif-image-lyon.fr
SUMMARY:Soirée à thème : bijoux
DESCRIPTION:
URL:https://objectif-image-lyon.fr/event/soiree-a-theme-bijoux/
END:VEVENT
BEGIN:VEVENT
DTSTART;TZID=Europe/Paris:20210222T200000
DTEND;TZID=Europe/Paris:20210222T220000
DTSTAMP:20260425T231511
CREATED:20210128T152213Z
LAST-MODIFIED:20210128T152213Z
UID:3027-1614024000-1614031200@objectif-image-lyon.fr
SUMMARY:Horloge de Lemagny
DESCRIPTION:Présentation par Michel Colle de l’horloge de Lemagny \nComment utiliser l’horloge pour les soirées club
URL:https://objectif-image-lyon.fr/event/horloge-de-lemagny/
END:VEVENT
END:VCALENDAR