BEGIN:VCALENDAR
VERSION:2.0
PRODID:-//Objectif Image Lyon - ECPv6.15.20//NONSGML v1.0//EN
CALSCALE:GREGORIAN
METHOD:PUBLISH
X-WR-CALNAME:Objectif Image Lyon
X-ORIGINAL-URL:https://objectif-image-lyon.fr
X-WR-CALDESC:Évènements pour Objectif Image Lyon
REFRESH-INTERVAL;VALUE=DURATION:PT1H
X-Robots-Tag:noindex
X-PUBLISHED-TTL:PT1H
BEGIN:VTIMEZONE
TZID:Europe/Paris
BEGIN:DAYLIGHT
TZOFFSETFROM:+0100
TZOFFSETTO:+0200
TZNAME:CEST
DTSTART:20200329T010000
END:DAYLIGHT
BEGIN:STANDARD
TZOFFSETFROM:+0200
TZOFFSETTO:+0100
TZNAME:CET
DTSTART:20201025T010000
END:STANDARD
BEGIN:DAYLIGHT
TZOFFSETFROM:+0100
TZOFFSETTO:+0200
TZNAME:CEST
DTSTART:20210328T010000
END:DAYLIGHT
BEGIN:STANDARD
TZOFFSETFROM:+0200
TZOFFSETTO:+0100
TZNAME:CET
DTSTART:20211031T010000
END:STANDARD
BEGIN:DAYLIGHT
TZOFFSETFROM:+0100
TZOFFSETTO:+0200
TZNAME:CEST
DTSTART:20220327T010000
END:DAYLIGHT
BEGIN:STANDARD
TZOFFSETFROM:+0200
TZOFFSETTO:+0100
TZNAME:CET
DTSTART:20221030T010000
END:STANDARD
END:VTIMEZONE
BEGIN:VEVENT
DTSTART;TZID=Europe/Paris:20210104T200000
DTEND;TZID=Europe/Paris:20210104T220000
DTSTAMP:20260425T212900
CREATED:20201206T100438Z
LAST-MODIFIED:20201206T100438Z
UID:2061-1609790400-1609797600@objectif-image-lyon.fr
SUMMARY:Cartes de vœux
DESCRIPTION:Soirée consacrée au choix des cartes de vœux \n 
URL:https://objectif-image-lyon.fr/event/cartes-de-voeux/
END:VEVENT
BEGIN:VEVENT
DTSTART;TZID=Europe/Paris:20210111T200000
DTEND;TZID=Europe/Paris:20210111T223000
DTSTAMP:20260425T212900
CREATED:20201208T105025Z
LAST-MODIFIED:20201208T105025Z
UID:2074-1610395200-1610404200@objectif-image-lyon.fr
SUMMARY:Lecture et analyse d'images
DESCRIPTION:5 images max\, envois de préférence via le lien dans la page téléchargement du site. \nPetits rappels : format nom du fichier\, “prénom-nom-N°photo.ext”. \nCaractéristiques : 1920ppp sur la grande longueur en résolution 300 pixel \n 
URL:https://objectif-image-lyon.fr/event/lecture-et-analyse-dimages/
END:VEVENT
BEGIN:VEVENT
DTSTART;TZID=Europe/Paris:20210118T200000
DTEND;TZID=Europe/Paris:20210118T223000
DTSTAMP:20260425T212900
CREATED:20210103T161052Z
LAST-MODIFIED:20210103T161317Z
UID:2739-1611000000-1611009000@objectif-image-lyon.fr
SUMMARY:Soirée à thème
DESCRIPTION:Soirée à thème : graphisme
URL:https://objectif-image-lyon.fr/event/soiree-a-theme-3/
END:VEVENT
BEGIN:VEVENT
DTSTART;TZID=Europe/Paris:20210125T200000
DTEND;TZID=Europe/Paris:20210125T220000
DTSTAMP:20260425T212900
CREATED:20210115T193938Z
LAST-MODIFIED:20210115T194334Z
UID:2972-1611604800-1611612000@objectif-image-lyon.fr
SUMMARY:Le printemps d'OI: Question de temps
DESCRIPTION:La soirée du Lundi 25 janvier porte sur le thème annuel d’Objectif Image  Question de Temps animé par Pierre Soyer\, il nous laisse quelques réflexions : \n“Une photographie\, c’est un fragment de temps qui ne reviendra pas” – Martine Franck \n  \nQuand la nuit des temps a-t-elle vu le jour ? \nQuel est le contraire d’un contre temps ? \nPeut-on gagner son temps à le perdre ? \nVous l’aurez compris\, ce lundi nous allons parler du temps en photographie.  \nOn parlera d’instant\, décisif ou pas\, mais aussi de mémoire.  \nLe temps passe… il n’en reste que des images. 
URL:https://objectif-image-lyon.fr/event/le-printemps-doi/
END:VEVENT
END:VCALENDAR