BEGIN:VCALENDAR
VERSION:2.0
PRODID:-//Objectif Image Lyon - ECPv6.15.20//NONSGML v1.0//EN
CALSCALE:GREGORIAN
METHOD:PUBLISH
X-ORIGINAL-URL:https://objectif-image-lyon.fr
X-WR-CALDESC:Évènements pour Objectif Image Lyon
REFRESH-INTERVAL;VALUE=DURATION:PT1H
X-Robots-Tag:noindex
X-PUBLISHED-TTL:PT1H
BEGIN:VTIMEZONE
TZID:Europe/Paris
BEGIN:DAYLIGHT
TZOFFSETFROM:+0100
TZOFFSETTO:+0200
TZNAME:CEST
DTSTART:20190331T010000
END:DAYLIGHT
BEGIN:STANDARD
TZOFFSETFROM:+0200
TZOFFSETTO:+0100
TZNAME:CET
DTSTART:20191027T010000
END:STANDARD
BEGIN:DAYLIGHT
TZOFFSETFROM:+0100
TZOFFSETTO:+0200
TZNAME:CEST
DTSTART:20200329T010000
END:DAYLIGHT
BEGIN:STANDARD
TZOFFSETFROM:+0200
TZOFFSETTO:+0100
TZNAME:CET
DTSTART:20201025T010000
END:STANDARD
BEGIN:DAYLIGHT
TZOFFSETFROM:+0100
TZOFFSETTO:+0200
TZNAME:CEST
DTSTART:20210328T010000
END:DAYLIGHT
BEGIN:STANDARD
TZOFFSETFROM:+0200
TZOFFSETTO:+0100
TZNAME:CET
DTSTART:20211031T010000
END:STANDARD
END:VTIMEZONE
BEGIN:VEVENT
DTSTART;TZID=Europe/Paris:20200907T200000
DTEND;TZID=Europe/Paris:20200907T220000
DTSTAMP:20260425T143335
CREATED:20200727T113436Z
LAST-MODIFIED:20200727T113554Z
UID:1384-1599508800-1599516000@objectif-image-lyon.fr
SUMMARY:Reprise des activités
DESCRIPTION:Après cette longue période de mise en veille\, si la situation le permet nous reprenons nos activités
URL:https://objectif-image-lyon.fr/event/reprise-des-activites/
END:VEVENT
BEGIN:VEVENT
DTSTART;TZID=Europe/Paris:20200909T193000
DTEND;TZID=Europe/Paris:20200909T193000
DTSTAMP:20260425T143335
CREATED:20200908T140138Z
LAST-MODIFIED:20200908T140138Z
UID:1402-1599679800-1599679800@objectif-image-lyon.fr
SUMMARY:Images Projetées
DESCRIPTION:En raison des mesures pour faire face à l’épidémie du  covid-19\, nous ne pouvons recevoir que 10 personnes\, l’inscription est obligatoire et l’envoi des photos (10 maximum) à Claude Souchal afin d’éviter la manipulation des clefs USB.
URL:https://objectif-image-lyon.fr/event/images-projetees-10/
END:VEVENT
BEGIN:VEVENT
DTSTART;TZID=Europe/Paris:20200914T193000
DTEND;TZID=Europe/Paris:20200914T223000
DTSTAMP:20260425T143335
CREATED:20200908T140315Z
LAST-MODIFIED:20200908T140315Z
UID:1404-1600111800-1600122600@objectif-image-lyon.fr
SUMMARY:Images projetées
DESCRIPTION:En raison des mesures pour faire face à l’épidémie du  covid-19\, nous ne pouvons recevoir que 10 personnes\, l’inscription est obligatoire et l’envoi des photos (10 maximum) à Claude Souchal afin d’éviter la manipulation des clefs USB.
URL:https://objectif-image-lyon.fr/event/images-projetees-11/
END:VEVENT
BEGIN:VEVENT
DTSTART;TZID=Europe/Paris:20200916T193000
DTEND;TZID=Europe/Paris:20200916T223000
DTSTAMP:20260425T143335
CREATED:20200908T140356Z
LAST-MODIFIED:20200908T140356Z
UID:1406-1600284600-1600295400@objectif-image-lyon.fr
SUMMARY:Images projetées
DESCRIPTION:En raison des mesures pour faire face à l’épidémie du  covid-19\, nous ne pouvons recevoir que 10 personnes\, l’inscription est obligatoire et l’envoi des photos (10 maximum) à Claude Souchal afin d’éviter la manipulation des clefs USB.
URL:https://objectif-image-lyon.fr/event/images-projetees-12/
END:VEVENT
BEGIN:VEVENT
DTSTART;TZID=Europe/Paris:20200919T093000
DTEND;TZID=Europe/Paris:20200919T170000
DTSTAMP:20260425T143335
CREATED:20200913T073700Z
LAST-MODIFIED:20200913T073700Z
UID:1416-1600507800-1600534800@objectif-image-lyon.fr
SUMMARY:Sortie club
DESCRIPTION:Sortie au musée de la photographie de Saint Bonnet de Mure
URL:https://objectif-image-lyon.fr/event/sortie-club-2/
END:VEVENT
BEGIN:VEVENT
DTSTART;TZID=Europe/Paris:20200921T193000
DTEND;TZID=Europe/Paris:20200921T223000
DTSTAMP:20260425T143335
CREATED:20200913T072839Z
LAST-MODIFIED:20200913T073300Z
UID:1410-1600716600-1600727400@objectif-image-lyon.fr
SUMMARY:Images support papier
DESCRIPTION:En raison des mesures pour faire face à l’épidémie du  covid-19\, nous ne pouvons recevoir que 10 personnes\, l’inscription est obligatoire. \nContacter Claude Souchal pour vous inscrire à la soirée.
URL:https://objectif-image-lyon.fr/event/images-support-papier/
END:VEVENT
BEGIN:VEVENT
DTSTART;TZID=Europe/Paris:20200923T193000
DTEND;TZID=Europe/Paris:20200923T223000
DTSTAMP:20260425T143335
CREATED:20200913T073348Z
LAST-MODIFIED:20200913T073348Z
UID:1414-1600889400-1600900200@objectif-image-lyon.fr
SUMMARY:Images support papier
DESCRIPTION:En raison des mesures pour faire face à l’épidémie du  covid-19\, nous ne pouvons recevoir que 10 personnes\, l’inscription est obligatoire. \nContacter Claude Souchal pour vous inscrire à la soirée.
URL:https://objectif-image-lyon.fr/event/images-support-papier-2/
END:VEVENT
BEGIN:VEVENT
DTSTART;TZID=Europe/Paris:20200926T093000
DTEND;TZID=Europe/Paris:20200926T170000
DTSTAMP:20260425T143335
CREATED:20200913T074144Z
LAST-MODIFIED:20200913T074144Z
UID:1418-1601112600-1601139600@objectif-image-lyon.fr
SUMMARY:Sortie Club
DESCRIPTION:Visite du musée de la photographie
URL:https://objectif-image-lyon.fr/event/sortie-club-3/
LOCATION:Musée de la photographie\, Avenue de l'hotel de ville\, Saint Bonnet de Mure\, 69720\, France
END:VEVENT
BEGIN:VEVENT
DTSTART;TZID=Europe/Paris:20200928T193000
DTEND;TZID=Europe/Paris:20200928T230000
DTSTAMP:20260425T143335
CREATED:20200910T060622Z
LAST-MODIFIED:20200910T060622Z
UID:1408-1601321400-1601334000@objectif-image-lyon.fr
SUMMARY:Assemblée générale
DESCRIPTION:Notre assemblée générale se tiendra à l’espace 101 \nBoulevard des Etats Unis Lyon 8ème \n 
URL:https://objectif-image-lyon.fr/event/assemblee-generale-2/
END:VEVENT
END:VCALENDAR