BEGIN:VCALENDAR
VERSION:2.0
PRODID:-//Objectif Image Lyon - ECPv6.15.20//NONSGML v1.0//EN
CALSCALE:GREGORIAN
METHOD:PUBLISH
X-WR-CALNAME:Objectif Image Lyon
X-ORIGINAL-URL:https://objectif-image-lyon.fr
X-WR-CALDESC:Évènements pour Objectif Image Lyon
REFRESH-INTERVAL;VALUE=DURATION:PT1H
X-Robots-Tag:noindex
X-PUBLISHED-TTL:PT1H
BEGIN:VTIMEZONE
TZID:Europe/Paris
BEGIN:DAYLIGHT
TZOFFSETFROM:+0100
TZOFFSETTO:+0200
TZNAME:CEST
DTSTART:20190331T010000
END:DAYLIGHT
BEGIN:STANDARD
TZOFFSETFROM:+0200
TZOFFSETTO:+0100
TZNAME:CET
DTSTART:20191027T010000
END:STANDARD
BEGIN:DAYLIGHT
TZOFFSETFROM:+0100
TZOFFSETTO:+0200
TZNAME:CEST
DTSTART:20200329T010000
END:DAYLIGHT
BEGIN:STANDARD
TZOFFSETFROM:+0200
TZOFFSETTO:+0100
TZNAME:CET
DTSTART:20201025T010000
END:STANDARD
BEGIN:DAYLIGHT
TZOFFSETFROM:+0100
TZOFFSETTO:+0200
TZNAME:CEST
DTSTART:20210328T010000
END:DAYLIGHT
BEGIN:STANDARD
TZOFFSETFROM:+0200
TZOFFSETTO:+0100
TZNAME:CET
DTSTART:20211031T010000
END:STANDARD
END:VTIMEZONE
BEGIN:VEVENT
DTSTART;TZID=Europe/Paris:20200203T200000
DTEND;TZID=Europe/Paris:20200203T220000
DTSTAMP:20260425T050316
CREATED:20191220T123957Z
LAST-MODIFIED:20191220T124040Z
UID:488-1580760000-1580767200@objectif-image-lyon.fr
SUMMARY:Images projetées
DESCRIPTION:5 photos d’une résolution  de 240 dpi et d’une taille d’environ 3000 x 3000 sur clef USB dans un répertoire au Prénom de l’auteur \nLes photos renommées PRENOM-NOM-Titre.jpg
URL:https://objectif-image-lyon.fr/event/images-projetees-8/
END:VEVENT
BEGIN:VEVENT
DTSTART;TZID=Europe/Paris:20200210T200000
DTEND;TZID=Europe/Paris:20200210T220000
DTSTAMP:20260425T050316
CREATED:20191220T124231Z
LAST-MODIFIED:20191220T124255Z
UID:491-1581364800-1581372000@objectif-image-lyon.fr
SUMMARY:Prix Raymond Eymonerie
DESCRIPTION:Notre club participe au vote pour le diaporama du prix Eymonerie 2019
URL:https://objectif-image-lyon.fr/event/prix-raymond-eymonerie/
END:VEVENT
BEGIN:VEVENT
DTSTART;TZID=Europe/Paris:20200217T200000
DTEND;TZID=Europe/Paris:20200217T220000
DTSTAMP:20260425T050316
CREATED:20191220T124529Z
LAST-MODIFIED:20191220T124529Z
UID:493-1581969600-1581976800@objectif-image-lyon.fr
SUMMARY:Restitution stage +Challenge FPF
DESCRIPTION:Restitution du stage “Ambiance de rue” animé par \nChristian Valentin et Claude Souchal \nThème du mois : 21 -ème siècle
URL:https://objectif-image-lyon.fr/event/restitution-stage-challenge-fpf/
END:VEVENT
BEGIN:VEVENT
DTSTART;TZID=Europe/Paris:20200222T090000
DTEND;TZID=Europe/Paris:20200222T170000
DTSTAMP:20260425T050316
CREATED:20200209T183425Z
LAST-MODIFIED:20200209T183425Z
UID:520-1582362000-1582390800@objectif-image-lyon.fr
SUMMARY:Sortie Club
DESCRIPTION:Restitution du stage “ambiance de rue”
URL:https://objectif-image-lyon.fr/event/sortie-club/
END:VEVENT
BEGIN:VEVENT
DTSTART;TZID=Europe/Paris:20200224T140000
DTEND;TZID=Europe/Paris:20200224T170000
DTSTAMP:20260425T050316
CREATED:20200217T140845Z
LAST-MODIFIED:20200217T141819Z
UID:523-1582552800-1582563600@objectif-image-lyon.fr
SUMMARY:Sortie Hippodrome
DESCRIPTION:Sortie prise de vue à l’hippodrome de Chatillon sur Chalaronne
URL:https://objectif-image-lyon.fr/event/sortie-hippodrome/
END:VEVENT
BEGIN:VEVENT
DTSTART;TZID=Europe/Paris:20200224T200000
DTEND;TZID=Europe/Paris:20200224T220000
DTSTAMP:20260425T050316
CREATED:20191220T124605Z
LAST-MODIFIED:20191220T124605Z
UID:495-1582574400-1582581600@objectif-image-lyon.fr
SUMMARY:Analyse d'images papier
DESCRIPTION:
URL:https://objectif-image-lyon.fr/event/analyse-dimages-papier-6/
END:VEVENT
END:VCALENDAR